BEGIN:VCALENDAR
VERSION:2.0
PRODID:-//Michael Betz - ECPv6.15.20//NONSGML v1.0//EN
CALSCALE:GREGORIAN
METHOD:PUBLISH
X-WR-CALNAME:Michael Betz
X-ORIGINAL-URL:https://michaelbetzmusic.com
X-WR-CALDESC:Events for Michael Betz
REFRESH-INTERVAL;VALUE=DURATION:PT1H
X-Robots-Tag:noindex
X-PUBLISHED-TTL:PT1H
BEGIN:VTIMEZONE
TZID:America/Chicago
BEGIN:DAYLIGHT
TZOFFSETFROM:-0600
TZOFFSETTO:-0500
TZNAME:CDT
DTSTART:20160313T080000
END:DAYLIGHT
BEGIN:STANDARD
TZOFFSETFROM:-0500
TZOFFSETTO:-0600
TZNAME:CST
DTSTART:20161106T070000
END:STANDARD
BEGIN:DAYLIGHT
TZOFFSETFROM:-0600
TZOFFSETTO:-0500
TZNAME:CDT
DTSTART:20170312T080000
END:DAYLIGHT
BEGIN:STANDARD
TZOFFSETFROM:-0500
TZOFFSETTO:-0600
TZNAME:CST
DTSTART:20171105T070000
END:STANDARD
BEGIN:DAYLIGHT
TZOFFSETFROM:-0600
TZOFFSETTO:-0500
TZNAME:CDT
DTSTART:20180311T080000
END:DAYLIGHT
BEGIN:STANDARD
TZOFFSETFROM:-0500
TZOFFSETTO:-0600
TZNAME:CST
DTSTART:20181104T070000
END:STANDARD
BEGIN:DAYLIGHT
TZOFFSETFROM:-0600
TZOFFSETTO:-0500
TZNAME:CDT
DTSTART:20190310T080000
END:DAYLIGHT
BEGIN:STANDARD
TZOFFSETFROM:-0500
TZOFFSETTO:-0600
TZNAME:CST
DTSTART:20191103T070000
END:STANDARD
BEGIN:DAYLIGHT
TZOFFSETFROM:-0600
TZOFFSETTO:-0500
TZNAME:CDT
DTSTART:20200308T080000
END:DAYLIGHT
BEGIN:STANDARD
TZOFFSETFROM:-0500
TZOFFSETTO:-0600
TZNAME:CST
DTSTART:20201101T070000
END:STANDARD
END:VTIMEZONE
BEGIN:VTIMEZONE
TZID:America/Detroit
BEGIN:DAYLIGHT
TZOFFSETFROM:-0500
TZOFFSETTO:-0400
TZNAME:EDT
DTSTART:20170312T070000
END:DAYLIGHT
BEGIN:STANDARD
TZOFFSETFROM:-0400
TZOFFSETTO:-0500
TZNAME:EST
DTSTART:20171105T060000
END:STANDARD
BEGIN:DAYLIGHT
TZOFFSETFROM:-0500
TZOFFSETTO:-0400
TZNAME:EDT
DTSTART:20180311T070000
END:DAYLIGHT
BEGIN:STANDARD
TZOFFSETFROM:-0400
TZOFFSETTO:-0500
TZNAME:EST
DTSTART:20181104T060000
END:STANDARD
BEGIN:DAYLIGHT
TZOFFSETFROM:-0500
TZOFFSETTO:-0400
TZNAME:EDT
DTSTART:20190310T070000
END:DAYLIGHT
BEGIN:STANDARD
TZOFFSETFROM:-0400
TZOFFSETTO:-0500
TZNAME:EST
DTSTART:20191103T060000
END:STANDARD
END:VTIMEZONE
BEGIN:VEVENT
DTSTART;TZID=America/Chicago:20190125T193000
DTEND;TZID=America/Chicago:20190125T210000
DTSTAMP:20260423T172238
CREATED:20190121T023447Z
LAST-MODIFIED:20190121T023447Z
UID:2175-1548444600-1548450000@michaelbetzmusic.com
SUMMARY:Joby Talbot's "Path of Miracles" with ODC/Dance
DESCRIPTION:RSVP on Facebook \nPurchase Tickets \nI will be singing in a production of Joby Talbot’s choral work “Path of Miracles\,” which will be staged with ODC/Dance. More info below: \nInspired by the Camino de Santiago\, an ancient pilgrimage route across northern Spain\, ODC/Dance’s Path of Miracles brings artists and community together in a shared journey. Progressing through multiple spaces\, this site-specific performance in Winona’s beautiful Wesley United Methodist Church explores the journey of the Camino\, from spontaneous communal gatherings to individual reflection. The experience is enhanced by a live 17-voice choir featuring some of Minnesota’s leading vocal talent performing Joby Talbot’s score of the same name. \nFounded in 1971 by Brenda Way\, who trained under the legendary George Balanchine\, ODC/Dance has been recognized for its rigorous technique\, as well as its collaborations with numerous composers\, writer/singers\, actors\, and visual artists. The company has performed for more than a million people in 32 states and 11 countries. \nPath of Miracles is presented in partnership with Wesley United Methodist Church: Winona\, and in collaboration with the Charles Wesley Center of Sacred Music and Arts. \nThe presentation of Path of Miracles is made possible by the New England Foundation for the Arts’ National Dance Project\, with lead funding from the Doris Duke Charitable Foundation and The Andrew W. Mellon Foundation. \nThis presentation is supported by the Arts Midwest Touring Fund\, a program of Arts Midwest that is funded by the National Endowment for the Arts\, with additional contributions from the Minnesota State Arts Board and the Crane Group.
URL:https://michaelbetzmusic.com/event/joby-talbots-path-of-miracles-with-odc-dance/
LOCATION:Wesley United Methodist Church\, 114 W Broadway St\, Winona\, MN\, 55987\, United States
END:VEVENT
BEGIN:VEVENT
DTSTART;TZID=America/Chicago:20181229T150000
DTEND;TZID=America/Chicago:20181229T170000
DTSTAMP:20260423T172238
CREATED:20181114T055910Z
LAST-MODIFIED:20181114T055910Z
UID:2155-1546095600-1546102800@michaelbetzmusic.com
SUMMARY:Jazz Piano @ Fat Hill Brewing
DESCRIPTION:RSVP on Facebook \nOur wintry afternoon concert on December 29 will have you feeling classy! Mason City native Michael Betz\, now living in Minneapolis working as a composer\, producer\, and multi-instrumentalist\, will be entertaining the taproom on his piano with a mix of jazz standards\, original jazz compositions\, and free improvisation. Michael has studied and worked in music for years and loves to bring his talents back to his hometown! \nSince this is an instrumental concert\, it’s the perfect occasion for a gathering of friends and family that might be in town for the holidays. Michael will provide the ambiance while you catch up with people you don’t get to see very often. \nPlease join us for this cozy afternoon show! No admission fee.
URL:https://michaelbetzmusic.com/event/jazz-piano-fat-hill-brewing/
LOCATION:Fat Hill Brewing\, 17 N. Federal Ave\, Mason City\, IA\, 50401\, United States
END:VEVENT
BEGIN:VEVENT
DTSTART;TZID=America/Chicago:20181228T110000
DTEND;TZID=America/Chicago:20181228T130000
DTSTAMP:20260423T172238
CREATED:20181114T060301Z
LAST-MODIFIED:20181114T060301Z
UID:2161-1545994800-1546002000@michaelbetzmusic.com
SUMMARY:Jazz Piano @ Mason City Public Library
DESCRIPTION:I will be performing some jazz standards\, original tunes\, and arrangements of holiday tunes. It will be the perfect ambiance for having a cup of coffee and catching up with friends while home for the holidays!
URL:https://michaelbetzmusic.com/event/jazz-piano-mason-city-public-library-8/
LOCATION:Mason City Public Library\, 225 2nd St. S.E.\, Mason City\, IA\, 50401\, United States
END:VEVENT
BEGIN:VEVENT
DTSTART;TZID=America/Chicago:20181017T190000
DTEND;TZID=America/Chicago:20181017T213000
DTSTAMP:20260423T172238
CREATED:20181003T164235Z
LAST-MODIFIED:20181003T164305Z
UID:2147-1539802800-1539811800@michaelbetzmusic.com
SUMMARY:Langdon/Sanders Duo and QT @ Bohemian Grave
DESCRIPTION:RSVP on Facebook \nHouse show! College composer friends Jack Langdon and Adam Sanders will be visiting from Chicago and performing as a duo\, after which George Snow and I will join them for some free improvisation. \nSuggested $5 donation for touring performers.
URL:https://michaelbetzmusic.com/event/langdon-sanders-duo-and-qt-at-bohemian-grave/
LOCATION:Bohemian Grave\, 809 Charles Ave\, St. Paul\, MN\, 55104-2723\, United States
END:VEVENT
BEGIN:VEVENT
DTSTART;TZID=America/Chicago:20181004T200000
DTEND;TZID=America/Chicago:20181004T230000
DTSTAMP:20260423T172238
CREATED:20180930T221425Z
LAST-MODIFIED:20181003T164406Z
UID:2136-1538683200-1538694000@michaelbetzmusic.com
SUMMARY:Synth Improv w/ Adam Biel\, Markov Changes\, Aros E-V @ Terminal
DESCRIPTION:RSVP on Facebook \nAros E-V :: Delightful Tape Delusions\nhttps://aros-ev.bandcamp.com/ \nAdam Biel :: Subtle Drone Subterfuge\nhttps://adambiel.bandcamp.com/ \nMichael Betz :: Luminous Synth Concoctions\nhttp://michaelbetzmusic.com/improvisations/ \nMarkov Changes :: Noise/Improv Chicanery\nhttps://markovchanges.bandcamp.com/ \nOther acts TBA
URL:https://michaelbetzmusic.com/event/synth-improv-w-adam-biel-and-markov-changes-terminal/
LOCATION:The Terminal Bar\, 409 E Hennepin Ave\, Minneapolis\, MN\, 55414\, United States
END:VEVENT
BEGIN:VEVENT
DTSTART;TZID=America/Chicago:20180831T110000
DTEND;TZID=America/Chicago:20180831T130000
DTSTAMP:20260423T172238
CREATED:20180723T231132Z
LAST-MODIFIED:20180723T231132Z
UID:2095-1535713200-1535720400@michaelbetzmusic.com
SUMMARY:Jazz Piano @ Mason City Public Library
DESCRIPTION:I will be performing jazz standards over the lunch hour.
URL:https://michaelbetzmusic.com/event/jazz-piano-mason-city-public-library-7/
LOCATION:Mason City Public Library\, 225 2nd St. S.E.\, Mason City\, IA\, 50401\, United States
END:VEVENT
BEGIN:VEVENT
DTSTART;TZID=America/Chicago:20180818T190000
DTEND;TZID=America/Chicago:20180818T210000
DTSTAMP:20260423T172238
CREATED:20180730T173740Z
LAST-MODIFIED:20180801T055623Z
UID:2120-1534618800-1534626000@michaelbetzmusic.com
SUMMARY:Eastwind - A Farewell Solo Flute Recital
DESCRIPTION:RSVP on Facebook \nFlutist Joshua Weinberg presents his last public performance (for awhile) in Minnesota before moving to New York City to pursue a Master’s in Contemporary Flute Performance at Manhattan School of Music. Assisted by Michael Betz\, piano. \nFor friends outside of Minnesota there will be a Facebook LIVESTREAM! \nProgram: \nD’un matin de Printemps [1918] – Lili Boulanger (1893-1918) \nFirst Lines [2006] – Amy Williams (b. 1969) \nKokopelli [1990] – Katherine Hoover (b. 1937) \nPastorela [1947] – William Grant Still (1895-1978) \nIntermission \nEast Wind [1987] – Shulamit Ran (b. 1949) \nSuite op. 34\, for flute and piano [1877] – Charles-Marie Widor (1844-1937)
URL:https://michaelbetzmusic.com/event/eastwind-a-farewell-solo-flute-recital/
LOCATION:Lake of the Isles Lutheran Church\, 2020 Lake of the Isles Pkwy W\, Minneapolis\, MN\, 55405\, United States
END:VEVENT
BEGIN:VEVENT
DTSTART;TZID=America/Chicago:20180806T200000
DTEND;TZID=America/Chicago:20180806T220000
DTSTAMP:20260423T172238
CREATED:20180728T043525Z
LAST-MODIFIED:20180728T043525Z
UID:2111-1533585600-1533592800@michaelbetzmusic.com
SUMMARY:Source Song Festival: OpenSource - "A Purple Ravelling" Premiere
DESCRIPTION:My latest art song\, A Purple Ravelling\, with text by Athena Kildegaard\, will be premiered at the opening concert of the fifth annual Source Song Festival by Alan Dunbar\, baritone and Mary Jo Gothmann\, piano. \nMore information and tickets available here.
URL:https://michaelbetzmusic.com/event/source-song-festival-opensource-a-purple-ravelling-premiere/
LOCATION:Westminster Hall\, 1200 South Marquette Ave\, Minneapolis\, MN\, 55403\, United States
END:VEVENT
BEGIN:VEVENT
DTSTART;TZID=America/Chicago:20180725T210000
DTEND;TZID=America/Chicago:20180726T000000
DTSTAMP:20260423T172238
CREATED:20180723T233229Z
LAST-MODIFIED:20180723T233255Z
UID:2109-1532552400-1532563200@michaelbetzmusic.com
SUMMARY:Synthesizer Improvisations @ Kitty Cat Klub
DESCRIPTION:I’m sharing the bill with American Cream\, Paul Metzger\, and Psychomantic the Ritual Death Cult. \nRSVP on Facebook
URL:https://michaelbetzmusic.com/event/synthesizer-improvisations-kitty-cat-klub/
LOCATION:Kitty Cat Klub\, 315 14th Ave SE\, Minneapolis\, MN\, 55414\, United States
END:VEVENT
BEGIN:VEVENT
DTSTART;TZID=America/Chicago:20180720T110000
DTEND;TZID=America/Chicago:20180720T130000
DTSTAMP:20260423T172238
CREATED:20180723T231054Z
LAST-MODIFIED:20180723T231054Z
UID:2093-1532084400-1532091600@michaelbetzmusic.com
SUMMARY:Jazz Piano @ Mason City Public Library
DESCRIPTION:I will be performing jazz standards over the lunch hour.
URL:https://michaelbetzmusic.com/event/jazz-piano-mason-city-public-library-6/
LOCATION:Mason City Public Library\, 225 2nd St. S.E.\, Mason City\, IA\, 50401\, United States
END:VEVENT
BEGIN:VEVENT
DTSTART;TZID=America/Chicago:20180623T210000
DTEND;TZID=America/Chicago:20180624T000000
DTSTAMP:20260423T172238
CREATED:20180723T232811Z
LAST-MODIFIED:20180723T232930Z
UID:2097-1529787600-1529798400@michaelbetzmusic.com
SUMMARY:Synthesizer Improvisations @ Grumpy's Downtown
DESCRIPTION:I’m opening for Comets Ov Cupid for the final night of their June residency at Grumpy’s Downtown. \nFrom the Facebook event: \nComets Ov Cupid will be spacing out Grumpy’s this June. Each Saturday June 2-23. Comets will share the bill with a different music group or project each night. This is music for the coming Aeon Ov Change! Sounds and lights to realign your mind. \nJune 2 10:30 Thunderbolt Pagoda / 11:30 Comets Ov Cupid\nJune 9 10:30 Beach Mountain / 11:30 Comets Ov Cupid\nJune 16 10:30 IOSIS / 11:30 Comets Ov Cupid\nJune 23 10:30 Michael Betz / 11:30 Comets Ov Cupid
URL:https://michaelbetzmusic.com/event/synthesizer-improvisations-grumpys-downtown/
LOCATION:Grumpy’s Bar and Grill – Downtown\, 1111 S Washington Ave\, Minneapolis\, MN\, 55415\, United States
END:VEVENT
BEGIN:VEVENT
DTSTART;TZID=America/Chicago:20180622T110000
DTEND;TZID=America/Chicago:20180622T130000
DTSTAMP:20260423T172238
CREATED:20180723T231011Z
LAST-MODIFIED:20180723T231011Z
UID:2091-1529665200-1529672400@michaelbetzmusic.com
SUMMARY:Jazz Piano @ Mason City Public Library
DESCRIPTION:I will be performing jazz standards over the lunch hour.
URL:https://michaelbetzmusic.com/event/jazz-piano-mason-city-public-library-5/
LOCATION:Mason City Public Library\, 225 2nd St. S.E.\, Mason City\, IA\, 50401\, United States
END:VEVENT
BEGIN:VEVENT
DTSTART;TZID=America/Chicago:20180522T193000
DTEND;TZID=America/Chicago:20180522T210000
DTSTAMP:20260423T172238
CREATED:20180323T234345Z
LAST-MODIFIED:20180323T234345Z
UID:2054-1527017400-1527022800@michaelbetzmusic.com
SUMMARY:"Listen" Premiere - Mason City High School Concert Choir
DESCRIPTION:My composition for SATB choir and piano\, Listen (2018)\, will be premiered by the Mason City High School Concert Choir under the direction of Joel Everist. The work was commissioned by Dean Genth and Gary Swenson to address the issue of bullying. More information coming in a detailed post as the premiere date draws nearer.
URL:https://michaelbetzmusic.com/event/listen-premiere-mason-city-high-school-concert-choir/
LOCATION:NIACC\, 7299\, 500 College Dr\, Mason City\, Iowa\, 50401\, United States
END:VEVENT
BEGIN:VEVENT
DTSTART;TZID=America/Chicago:20180325T140000
DTEND;TZID=America/Chicago:20180325T150000
DTSTAMP:20260423T172238
CREATED:20180323T055951Z
LAST-MODIFIED:20180323T055951Z
UID:2037-1521986400-1521990000@michaelbetzmusic.com
SUMMARY:Zeitgeist Early Music Festival: Julius Eastman
DESCRIPTION:I will perform Julius Eastman’s work for two voices\, “Our Father\,” with Harrison Hintzsche\, baritone\,  as part of Zeitgeist’s 8th Annual Early Music Festival.  \n\nZeitgeist’s 8th Annual Early Music Festival explores the powerful contributions of our musical pioneers with a celebration of African American minimalist composer Julius Eastman. Eastman’s vibrant\, virtuosic\, and rhythmically aggressive music\, and the racially and sexually charged nature of his work challenged the musical establishment and anti-establishment alike in the 1970s and 1980s\, greatly impacting the trajectory of American minimalism. Lost after his death in 1990\, Eastman’s music has been recently recovered is asserting its influence once again. \n — zeitgeistnemusic.org
URL:https://michaelbetzmusic.com/event/zeitgeist-early-music-festival-julius-eastman/
LOCATION:Studio Z\, 275 East 4th Street\, Suite 200\, St. Paul\, MN\, United States
END:VEVENT
BEGIN:VEVENT
DTSTART;TZID=America/Detroit:20180316T180000
DTEND;TZID=America/Detroit:20180316T190000
DTSTAMP:20260423T172238
CREATED:20180305T204842Z
LAST-MODIFIED:20180305T204953Z
UID:2017-1521223200-1521226800@michaelbetzmusic.com
SUMMARY:Solo and Chamber Timpanist's Initiative - "Fanfare on Dies Irae"
DESCRIPTION:RSVP on Facebook \nThe Solo and Chamber Timpanist’s Initiative will perform my piece Fanfare on “Dies Irae” for 2 timpanists and 9 drums. The performance will be live-broadcast along with other winners of their call for scores at this link from 6-7pm EDT.
URL:https://michaelbetzmusic.com/event/solo-chamber-timpanists-initiative-fanfare-dies-irae/
LOCATION:MN
END:VEVENT
BEGIN:VEVENT
DTSTART;TZID=America/Chicago:20180315T190000
DTEND;TZID=America/Chicago:20180315T200000
DTSTAMP:20260423T172238
CREATED:20180305T205550Z
LAST-MODIFIED:20201122T222020Z
UID:2033-1521140400-1521144000@michaelbetzmusic.com
SUMMARY:Love\, Art\, and the Deepest Desire
DESCRIPTION:RSVP on Facebook \n\nJoin the Murphy Institute for an evening of song and celebration in the newly renovated Our Lady of Lourdes Catholic Church\, featuring soprano Elena Stabile\, accompanied by Yoshi Weinberg on flute and Michael Betz on piano. Ms. Stabile will perform two contemporary classical song cycles: “Passing Melodies\,” Samuel Barber’s composition based on the poetry of Rainer Maria Rilke\, and “The Deepest Desire: Four Meditations on Love\,” Jake Hegge’s music based on the meditations of activist and author (Dead Man Walking)\, Sr. Helen Prejean. \nThere will be a complimentary reception in Hofstede Hall (lower level of the church) immediately following the program for those who register online.
URL:https://michaelbetzmusic.com/event/love-art-deepest-desire/
LOCATION:MN
END:VEVENT
BEGIN:VEVENT
DTSTART;TZID=America/Chicago:20171226T110000
DTEND;TZID=America/Chicago:20171226T130000
DTSTAMP:20260423T172238
CREATED:20171226T054558Z
LAST-MODIFIED:20171226T054558Z
UID:2004-1514286000-1514293200@michaelbetzmusic.com
SUMMARY:Holiday Jazz @ Mason City Public Library
DESCRIPTION:I will be performing my usual jazz standards along with some jazz arrangements of holiday tunes.
URL:https://michaelbetzmusic.com/event/holiday-jazz-mason-city-public-library/
LOCATION:Mason City Public Library\, 225 2nd St. S.E.\, Mason City\, IA\, 50401\, United States
END:VEVENT
BEGIN:VEVENT
DTSTART;TZID=America/Chicago:20170909T190000
DTEND;TZID=America/Chicago:20170909T220000
DTSTAMP:20260423T172238
CREATED:20170909T223105Z
LAST-MODIFIED:20170909T223105Z
UID:1967-1504983600-1504994400@michaelbetzmusic.com
SUMMARY:Twin Cities New Music Season Launch Party/Fundraiser
DESCRIPTION:RSVP on Facebook \nFeaturing music by: \nPunk-Ass Classical\nSix Families\nOne Thirteen\nZeitgeist \nJoshua Weinberg will be performing movements 3 and 4 of my flute suite ascension.
URL:https://michaelbetzmusic.com/event/twin-cities-new-music-season-launch-partyfundraiser/
LOCATION:Bang Brewing Co.\, 2320 Capp Rd\, St. Paul\, MN\, 55114\, United States
END:VEVENT
BEGIN:VEVENT
DTSTART;TZID=America/Chicago:20170909T100000
DTEND;TZID=America/Chicago:20170909T160000
DTSTAMP:20260423T172238
CREATED:20170909T035359Z
LAST-MODIFIED:20220915T035753Z
UID:1963-1504951200-1504972800@michaelbetzmusic.com
SUMMARY:Art at Rice Creek
DESCRIPTION:Joshua Weinberg (flute) and Michael Betz (piano) will be performing repertoire from the French impressionist traditions and Argentinian tango traditions. Their program will include works by composers Fauré\, Satie\, Massenet\, Debussy\, Piazzolla\, Salgán\, and Guastavino. \nWe will perform from 11:45-12:45. For more information about the entertainment and festival schedule\, see the link below.
URL:https://michaelbetzmusic.com/event/art-rice-creek/
LOCATION:Banfill-Locke Center for the Arts\, 6666 E River Rd\, Fridley\, MN\, 55432\, United States
END:VEVENT
BEGIN:VEVENT
DTSTART;TZID=America/Chicago:20170804T170000
DTEND;TZID=America/Chicago:20170804T190000
DTSTAMP:20260423T172238
CREATED:20170717T000126Z
LAST-MODIFIED:20170717T000206Z
UID:1944-1501866000-1501873200@michaelbetzmusic.com
SUMMARY:MacNider: "Off the Clock"
DESCRIPTION:RSVP on Facebook \nI will be playing jazz piano for MacNider Art Museum’s “Off the Clock” event: \nMacNider: Off the Clock is a free event and open to the public. Complimentary wine and appetizers are available throughout the event\, in addition to live music. Visitors can mingle with friends and coworkers as they explore the galleries and enjoy the relaxed atmosphere of the MacNider. \nCorresponding with the “In Her Own Right: Marion Mahony Griffin” exhibit we will have a live portrayal of Marion Mahony Griffin done by Mary Rohne.
URL:https://michaelbetzmusic.com/event/macnider-off-clock/
LOCATION:MacNider Art Museum\, 303 2nd St SE\, Mason City\, IA\, 50401\, United States
END:VEVENT
BEGIN:VEVENT
DTSTART;TZID=America/Chicago:20170804T110000
DTEND;TZID=America/Chicago:20170804T130000
DTSTAMP:20260423T172238
CREATED:20170517T233623Z
LAST-MODIFIED:20170517T233623Z
UID:1924-1501844400-1501851600@michaelbetzmusic.com
SUMMARY:Piano/Synths @ Mason City Public Library
DESCRIPTION:I will be performing improvised music on piano and synthesizers.
URL:https://michaelbetzmusic.com/event/mcpl-08-04-17/
LOCATION:MN
END:VEVENT
BEGIN:VEVENT
DTSTART;TZID=America/Chicago:20170707T160000
DTEND;TZID=America/Chicago:20170707T183000
DTSTAMP:20260423T172238
CREATED:20170709T001338Z
LAST-MODIFIED:20170709T001640Z
UID:1938-1499443200-1499452200@michaelbetzmusic.com
SUMMARY:Piano @ North Iowa Farmers Market
DESCRIPTION:I will be playing jazz and original improvisations at the North Iowa Farmers Market.
URL:https://michaelbetzmusic.com/event/north-iowa-farmers-market-2017-07-07/
LOCATION:North Iowa Farmers Market\, N Delaware Ave & 1st St NE\, Mason City\, IA\, United States
END:VEVENT
BEGIN:VEVENT
DTSTART;TZID=America/Chicago:20170707T110000
DTEND;TZID=America/Chicago:20170707T130000
DTSTAMP:20260423T172238
CREATED:20170517T233623Z
LAST-MODIFIED:20170517T233623Z
UID:1922-1499425200-1499432400@michaelbetzmusic.com
SUMMARY:Piano/Synths @ Mason City Public Library
DESCRIPTION:I will be performing improvised music on piano and synthesizers.
URL:https://michaelbetzmusic.com/event/mcpl-07-07-17/
LOCATION:Mason City Public Library\, 225 2nd St. S.E.\, Mason City\, IA\, 50401\, United States
END:VEVENT
BEGIN:VEVENT
DTSTART;TZID=America/Chicago:20170623T110000
DTEND;TZID=America/Chicago:20170623T130000
DTSTAMP:20260423T172238
CREATED:20170517T233623Z
LAST-MODIFIED:20170517T233623Z
UID:1920-1498215600-1498222800@michaelbetzmusic.com
SUMMARY:Piano/Synths @ Mason City Public Library
DESCRIPTION:I will be performing improvised music on piano and synthesizers.
URL:https://michaelbetzmusic.com/event/mcpl-06-23-17/
LOCATION:Mason City Public Library\, 225 2nd St. S.E.\, Mason City\, IA\, 50401\, United States
END:VEVENT
BEGIN:VEVENT
DTSTART;TZID=America/Chicago:20170612T210000
DTEND;TZID=America/Chicago:20170612T210000
DTSTAMP:20260423T172238
CREATED:20170602T013341Z
LAST-MODIFIED:20170602T013433Z
UID:1930-1497301200-1497301200@michaelbetzmusic.com
SUMMARY:Sound Bath: an Evening of Ambient Space Music
DESCRIPTION:RSVP on Facebook \nSound Bath: an Evening of Ambient Space Music\ncurated by Dave Onnen of the Space Rock Band Thunderbolt Pagoda\nArtists to perform that night \nComets ov Cupid (solo)\nwww.cometsovcupid.com \nMichael Betz\nhttp://michaelbetzmusic.com/ \nAdam Biel\nhttps://adambiel.bandcamp.com/ \nand DJ Mutant will be spinning some otherworldy cosmic soundscapes.
URL:https://michaelbetzmusic.com/event/sound-bath/
LOCATION:Kitty Cat Klub\, 315 14th Ave SE\, Minneapolis\, MN\, 55414\, United States
END:VEVENT
BEGIN:VEVENT
DTSTART;TZID=America/Chicago:20170526T193000
DTEND;TZID=America/Chicago:20170526T220000
DTSTAMP:20260423T172238
CREATED:20170517T233623Z
LAST-MODIFIED:20170517T233623Z
UID:1916-1495827000-1495836000@michaelbetzmusic.com
SUMMARY:Punk-Ass Classical XI
DESCRIPTION:RSVP on Facebook \nPunk-Ass Classical heads back to Northeast to sing\, scream and shout in celebration of our second full year of concerts. Kyle Hutchins\, a formerly Minnesota based musician\, is back in town for a limited time\, performing works for solo voice by Kurt Schwitters and local composer Joey Crane. Punk-Ass Classical veterans Michael Betz and Anika Kildegaard join with a group of singers to perform vocal music by renowned 20th century innovators Luciano Berio and John Cage. \nPoster by Katharine Linnea \nOn the Program:\n“Story” by John Cage\n“Cries of London” by Luciano Berio\n[Anika Kildegaard\, Anna Christofaro\, Michael Betz and Harrison Hintzsche\, Rob Graham\, Charlie Baird\, Cassandra McNally and Kristina Rodel] \n“Ursonate” by Kurt Schwitters\n“Ghost Play” by Joey Crane\n[Kyle Hutchins] \nWe ask for a $5-$10 donation to help pay our performers and composers and help make Punk-Ass Classical a stable and reliable source of live music in the Twin Cities. \n*Respect the space\, respect the music\, respect each other* \nCan’t attend the concert? You can support Punk-Ass Classical throughout the year by donating to our generosity.com campaign!\n—-\nPunk-Ass Classical fosters a lively\, diverse\, and inclusive contemporary classical and experimental music community in basements\, attics\, and living rooms throughout the Twin Cities.
URL:https://michaelbetzmusic.com/event/punk-ass-classical-xi/
LOCATION:1065 21st Ave SE\, Minneapolis\, MN\, 55414\, United States
END:VEVENT
BEGIN:VEVENT
DTSTART;TZID=America/Chicago:20170520T100000
DTEND;TZID=America/Chicago:20170520T160000
DTSTAMP:20260423T172238
CREATED:20170517T233623Z
LAST-MODIFIED:20170519T194127Z
UID:1907-1495274400-1495296000@michaelbetzmusic.com
SUMMARY:Yeah Maybe #17 (the garage sale show)
DESCRIPTION:RSVP on Facebook \nI will be performing a synthesizer set at 2:00pm. \nTables:\nBeyond Repair\nGas Gallery and Press\nHair and Nails\nJoe Krasean\nThe Third Rail\nTuck Under Projects\nSadie Halie\nWhy World\nWomens Woodshop \nMusic (outside):\n12pm – 3pm\, programmed by Six Families \nFood:\n1$ lemonade\n1$ brownies \n(in conjunction with Seward Garage Sale Dayz)
URL:https://michaelbetzmusic.com/event/yeah-maybe-17-the-garage-sale-show/
LOCATION:Yeah Maybe\, 2528 E 22nd St\, Minneapolis\, MN\, 55406\, United States
END:VEVENT
BEGIN:VEVENT
DTSTART;TZID=America/Chicago:20170415T213000
DTEND;TZID=America/Chicago:20170415T213000
DTSTAMP:20260423T172238
CREATED:20170405T054726Z
LAST-MODIFIED:20170405T054726Z
UID:1895-1492291800-1492291800@michaelbetzmusic.com
SUMMARY:Comets ov Cupid\, Celica\, Typewriter\, Psychomantic the Ritual Death Cult\, Betz/Petersen @ Hexagon
DESCRIPTION:RSVP on Facebook \nI will be performing an improvised duo set with guitarist Jesse Matthew Petersen.  We first did this at the March installment of the Tourniquet Noise Series\, and it was well-received.  Here is the recording from that performance:
URL:https://michaelbetzmusic.com/event/hexagon-4-15-17/
LOCATION:Hexagon Bar\, 2600 27th Ave S\, Minneapolis\, MN\, 55406\, United States
END:VEVENT
BEGIN:VEVENT
DTSTART;TZID=America/Chicago:20170320T213000
DTEND;TZID=America/Chicago:20170321T010000
DTSTAMP:20260423T172238
CREATED:20170123T033644Z
LAST-MODIFIED:20170123T033644Z
UID:1738-1490045400-1490058000@michaelbetzmusic.com
SUMMARY:Tourniquet Noise Series - "Rites of Spring"
DESCRIPTION:RSVP on Facebook \nImprov noise combos–duos paired up randomly at beginning of night. \nFeaturing: \nSeth Ryan\nSeth VanHorn\nAdam Zahller\nGrant Richardson\nElaine Evans\nJames Allen Graham\nJess Anderson\nMichael Betz\nLeo Brochu\nDan Raskin\nJesse Matthew Petersen
URL:https://michaelbetzmusic.com/event/tourniquet-noise-series-rites-spring/
LOCATION:Kitty Cat Klub\, 315 14th Ave SE\, Minneapolis\, MN\, 55414\, United States
END:VEVENT
BEGIN:VEVENT
DTSTART;TZID=America/Chicago:20170224T190000
DTEND;TZID=America/Chicago:20170225T230000
DTSTAMP:20260423T172238
CREATED:20170209T171915Z
LAST-MODIFIED:20170209T171915Z
UID:1880-1487962800-1488063600@michaelbetzmusic.com
SUMMARY:Drone Not Drones: The 4th Annual 28-Hour Drone
DESCRIPTION:I’m looking forward to participating in the 28-hour continuous drone for the second time.  All proceeds go to Doctors Without Borders.  Although the schedule is still being finalized\, I will most likely be playing one of the “quiet hours” slots: in the neighborhood of 5am. \nRSVP on Facebook \nPurchase Tickets \nOfficial Website – Full roster/schedule of artists will be updated. Event will be live-streamed.
URL:https://michaelbetzmusic.com/event/drone-not-drones-4th-annual-28-hour-drone/
LOCATION:The Cedar Cultural Center\, 416 Cedar Ave S\, Minneapolis\, MN\, 55454\, United States
END:VEVENT
END:VCALENDAR