BEGIN:VCALENDAR
VERSION:2.0
PRODID:-//Michael Betz - ECPv6.15.20//NONSGML v1.0//EN
CALSCALE:GREGORIAN
METHOD:PUBLISH
X-WR-CALNAME:Michael Betz
X-ORIGINAL-URL:https://michaelbetzmusic.com
X-WR-CALDESC:Events for Michael Betz
REFRESH-INTERVAL;VALUE=DURATION:PT1H
X-Robots-Tag:noindex
X-PUBLISHED-TTL:PT1H
BEGIN:VTIMEZONE
TZID:America/Chicago
BEGIN:DAYLIGHT
TZOFFSETFROM:-0600
TZOFFSETTO:-0500
TZNAME:CDT
DTSTART:20110313T080000
END:DAYLIGHT
BEGIN:STANDARD
TZOFFSETFROM:-0500
TZOFFSETTO:-0600
TZNAME:CST
DTSTART:20111106T070000
END:STANDARD
BEGIN:DAYLIGHT
TZOFFSETFROM:-0600
TZOFFSETTO:-0500
TZNAME:CDT
DTSTART:20120311T080000
END:DAYLIGHT
BEGIN:STANDARD
TZOFFSETFROM:-0500
TZOFFSETTO:-0600
TZNAME:CST
DTSTART:20121104T070000
END:STANDARD
BEGIN:DAYLIGHT
TZOFFSETFROM:-0600
TZOFFSETTO:-0500
TZNAME:CDT
DTSTART:20130310T080000
END:DAYLIGHT
BEGIN:STANDARD
TZOFFSETFROM:-0500
TZOFFSETTO:-0600
TZNAME:CST
DTSTART:20131103T070000
END:STANDARD
END:VTIMEZONE
BEGIN:VEVENT
DTSTART;TZID=America/Chicago:20120824T110000
DTEND;TZID=America/Chicago:20120824T140000
DTSTAMP:20260424T040510
CREATED:20120729T191849Z
LAST-MODIFIED:20120729T192220Z
UID:550-1345806000-1345816800@michaelbetzmusic.com
SUMMARY:Mason City Public Library
DESCRIPTION:Michael Betz will be playing jazz piano from 11:00 AM to 2:00 PM. Come and enjoy some great music and lunch from Cabin Coffee!
URL:https://michaelbetzmusic.com/event/mason-city-public-library-2/
LOCATION:Mason City Public Library\, 225 2nd St. S.E.\, Mason City\, IA\, 50401\, United States
END:VEVENT
BEGIN:VEVENT
DTSTART;TZID=America/Chicago:20120823T160000
DTEND;TZID=America/Chicago:20120823T183000
DTSTAMP:20260424T040510
CREATED:20120730T055602Z
LAST-MODIFIED:20120824T011003Z
UID:554-1345737600-1345746600@michaelbetzmusic.com
SUMMARY:Mason City Market
DESCRIPTION:Michael Betz will be providing jazz piano for the Mason City Market.  Come downtown for a refreshing afternoon of local produce/food/art!
URL:https://michaelbetzmusic.com/event/mason-city-market/
LOCATION:Mason City Market\, 9 N. Federal Ave.\, Mason City\, IA\, 50401\, United States
END:VEVENT
BEGIN:VEVENT
DTSTART;TZID=America/Chicago:20120817T180000
DTEND;TZID=America/Chicago:20120817T210000
DTSTAMP:20260424T040510
CREATED:20120817T171233Z
LAST-MODIFIED:20120817T171233Z
UID:716-1345226400-1345237200@michaelbetzmusic.com
SUMMARY:Prime N Wine
DESCRIPTION:
URL:https://michaelbetzmusic.com/event/prime-n-wine-3/
LOCATION:Prime N Wine\, 3000 4th St. SW\, Mason City\, IA\, 50401\, United States
END:VEVENT
BEGIN:VEVENT
DTSTART;TZID=America/Chicago:20120810T110000
DTEND;TZID=America/Chicago:20120810T140000
DTSTAMP:20260424T040510
CREATED:20120729T172442Z
LAST-MODIFIED:20220915T033529Z
UID:546-1344596400-1344607200@michaelbetzmusic.com
SUMMARY:Mason City Public Library
DESCRIPTION:Michael Betz will be playing jazz piano from 11:00 AM to 2:00 PM. Come and enjoy some great music and lunch from Cabin Coffee!
URL:https://michaelbetzmusic.com/event/mason-city-public-library/
LOCATION:Mason City Public Library\, 225 2nd St. S.E.\, Mason City\, IA\, 50401\, United States
END:VEVENT
BEGIN:VEVENT
DTSTART;TZID=America/Chicago:20120804T180000
DTEND;TZID=America/Chicago:20120804T210000
DTSTAMP:20260424T040510
CREATED:20120803T062849Z
LAST-MODIFIED:20120803T062849Z
UID:582-1344103200-1344114000@michaelbetzmusic.com
SUMMARY:Prime N Wine
DESCRIPTION:
URL:https://michaelbetzmusic.com/event/prime-n-wine-2/
LOCATION:Prime N Wine\, 3000 4th St. SW\, Mason City\, IA\, 50401\, United States
END:VEVENT
BEGIN:VEVENT
DTSTART;TZID=America/Chicago:20120803T180000
DTEND;TZID=America/Chicago:20120803T210000
DTSTAMP:20260424T040510
CREATED:20120803T062716Z
LAST-MODIFIED:20120803T062716Z
UID:580-1344016800-1344027600@michaelbetzmusic.com
SUMMARY:Prime N Wine
DESCRIPTION:
URL:https://michaelbetzmusic.com/event/prime-n-wine/
LOCATION:Prime N Wine\, 3000 4th St. SW\, Mason City\, IA\, 50401\, United States
END:VEVENT
END:VCALENDAR