BEGIN:VCALENDAR
VERSION:2.0
PRODID:-//Michael Betz - ECPv6.15.20//NONSGML v1.0//EN
CALSCALE:GREGORIAN
METHOD:PUBLISH
X-ORIGINAL-URL:https://michaelbetzmusic.com
X-WR-CALDESC:Events for Michael Betz
REFRESH-INTERVAL;VALUE=DURATION:PT1H
X-Robots-Tag:noindex
X-PUBLISHED-TTL:PT1H
BEGIN:VTIMEZONE
TZID:America/Chicago
BEGIN:DAYLIGHT
TZOFFSETFROM:-0600
TZOFFSETTO:-0500
TZNAME:CDT
DTSTART:20110313T080000
END:DAYLIGHT
BEGIN:STANDARD
TZOFFSETFROM:-0500
TZOFFSETTO:-0600
TZNAME:CST
DTSTART:20111106T070000
END:STANDARD
BEGIN:DAYLIGHT
TZOFFSETFROM:-0600
TZOFFSETTO:-0500
TZNAME:CDT
DTSTART:20120311T080000
END:DAYLIGHT
BEGIN:STANDARD
TZOFFSETFROM:-0500
TZOFFSETTO:-0600
TZNAME:CST
DTSTART:20121104T070000
END:STANDARD
BEGIN:DAYLIGHT
TZOFFSETFROM:-0600
TZOFFSETTO:-0500
TZNAME:CDT
DTSTART:20130310T080000
END:DAYLIGHT
BEGIN:STANDARD
TZOFFSETFROM:-0500
TZOFFSETTO:-0600
TZNAME:CST
DTSTART:20131103T070000
END:STANDARD
BEGIN:DAYLIGHT
TZOFFSETFROM:-0600
TZOFFSETTO:-0500
TZNAME:CDT
DTSTART:20140309T080000
END:DAYLIGHT
BEGIN:STANDARD
TZOFFSETFROM:-0500
TZOFFSETTO:-0600
TZNAME:CST
DTSTART:20141102T070000
END:STANDARD
BEGIN:DAYLIGHT
TZOFFSETFROM:-0600
TZOFFSETTO:-0500
TZNAME:CDT
DTSTART:20150308T080000
END:DAYLIGHT
BEGIN:STANDARD
TZOFFSETFROM:-0500
TZOFFSETTO:-0600
TZNAME:CST
DTSTART:20151101T070000
END:STANDARD
BEGIN:DAYLIGHT
TZOFFSETFROM:-0600
TZOFFSETTO:-0500
TZNAME:CDT
DTSTART:20160313T080000
END:DAYLIGHT
BEGIN:STANDARD
TZOFFSETFROM:-0500
TZOFFSETTO:-0600
TZNAME:CST
DTSTART:20161106T070000
END:STANDARD
END:VTIMEZONE
BEGIN:VEVENT
DTSTART;TZID=America/Chicago:20150806T200000
DTEND;TZID=America/Chicago:20150806T213000
DTSTAMP:20260424T010145
CREATED:20150723T002720Z
LAST-MODIFIED:20150802T132326Z
UID:1385-1438891200-1438896600@michaelbetzmusic.com
SUMMARY:Justin Staebell and Stanley Rothrock at MNSong Final Concert
DESCRIPTION:BUY TICKETS \nStudents – $12\nSeniors – $20\nAdults – $25 \n“Come enjoy the works by the emerging composers selected by Libby Larsen for the second annual MNSong Composers Workshop.  Performed by local artists\, by emerging composers it doesn’t get much better than this!” —Source Song Festival Website \nMy song cycle Indra’s Ear (2015) will be performed by Justin Staebell\, baritone and Stanley Rothrock\, piano.
URL:https://michaelbetzmusic.com/event/mnsong-final-concert/
END:VEVENT
BEGIN:VEVENT
DTSTART;TZID=America/Chicago:20150731T170000
DTEND;TZID=America/Chicago:20150731T190000
DTSTAMP:20260424T010145
CREATED:20150723T002146Z
LAST-MODIFIED:20150723T002146Z
UID:1383-1438362000-1438369200@michaelbetzmusic.com
SUMMARY:MacNider: Off the Clock
DESCRIPTION:I will be providing jazz piano music for MacNider Art Museum’s next Off the Clock event: come enjoy art and refreshments after museum hours!
URL:https://michaelbetzmusic.com/event/macnider-off-the-clock/
LOCATION:MacNider Art Museum\, 303 2nd St SE\, Mason City\, IA\, 50401\, United States
END:VEVENT
BEGIN:VEVENT
DTSTART;TZID=America/Chicago:20150523T150000
DTEND;TZID=America/Chicago:20150523T170000
DTSTAMP:20260424T010145
CREATED:20150228T222814Z
LAST-MODIFIED:20150228T222814Z
UID:1301-1432393200-1432400400@michaelbetzmusic.com
SUMMARY:Premiere - "Emergence" for the St. Olaf Band
DESCRIPTION:
URL:https://michaelbetzmusic.com/event/premiere-emergence-st-olaf-band/
END:VEVENT
BEGIN:VEVENT
DTSTART;TZID=America/Chicago:20150510T153000
DTEND;TZID=America/Chicago:20150510T173000
DTSTAMP:20260424T010145
CREATED:20150228T222740Z
LAST-MODIFIED:20150228T222740Z
UID:1300-1431271800-1431279000@michaelbetzmusic.com
SUMMARY:Premiere - "Enclosure" for the St. Olaf Orchestra
DESCRIPTION:
URL:https://michaelbetzmusic.com/event/premiere-enclosure-st-olaf-orchestra/
END:VEVENT
BEGIN:VEVENT
DTSTART;TZID=America/Chicago:20150308T201500
DTEND;TZID=America/Chicago:20150308T211500
DTSTAMP:20260424T010145
CREATED:20150228T222622Z
LAST-MODIFIED:20201122T221817Z
UID:1299-1425845700-1425849300@michaelbetzmusic.com
SUMMARY:Senior Composition Recital
DESCRIPTION:Senior composition recital for completion of my Bachelor of Music in Theory and Composition at St. Olaf College. \nreception to follow – themed menu by David Alscher \nFanfare on “Dies Irae” for 9 timpani\, 2 players (2015) \nMichael Betz ‘15\, timpani \nJohn Kronlokken ‘16\, timpani \nIndra’s Ear: song cycle for bass-baritone\, flute (ad lib.)\, and piano (2015) \n\nIndra\nSong of the Winds\nSong of the Waves\n\nAndrew Curtis ‘15\, bass-baritone\nYoshi Weinberg ‘15\, flute\nMichael Betz ‘15\, piano \nText: August Strindberg\, from The Dream Play\, trans. Edwin Björkman \nTombeau(x): sinfonietta for living and dead technologies (2015) \n\nArcadia\nMusette\nExtimacy\n\nMichael Betz ‘15\, electronics\, programming
URL:https://michaelbetzmusic.com/event/senior-composition-recital/
LOCATION:Urness Recital Hall\, 1500 St. Olaf Avenue\, Northfield\, MN\, 55057\, United States
END:VEVENT
BEGIN:VEVENT
DTSTART;TZID=America/Chicago:20140822T110000
DTEND;TZID=America/Chicago:20140822T140000
DTSTAMP:20260424T010145
CREATED:20140708T231844Z
LAST-MODIFIED:20140708T231844Z
UID:1282-1408705200-1408716000@michaelbetzmusic.com
SUMMARY:Mason City Public Library
DESCRIPTION:Stop by the Mason City Public Library from 11:00am – 2:00pm for some jazz/fusion piano!
URL:https://michaelbetzmusic.com/event/mason-city-public-library-7/
LOCATION:Mason City Public Library\, 225 2nd St. S.E.\, Mason City\, IA\, 50401\, United States
END:VEVENT
BEGIN:VEVENT
DTSTART;TZID=America/Chicago:20140725T170000
DTEND;TZID=America/Chicago:20140725T190000
DTSTAMP:20260424T010145
CREATED:20140710T063036Z
LAST-MODIFIED:20140710T063036Z
UID:1285-1406307600-1406314800@michaelbetzmusic.com
SUMMARY:MacNider Art Museum "Off the Clock"
DESCRIPTION:
URL:https://michaelbetzmusic.com/event/macnider-art-museum-clock/
END:VEVENT
BEGIN:VEVENT
DTSTART;TZID=America/Chicago:20140724T153000
DTEND;TZID=America/Chicago:20140724T160000
DTSTAMP:20260424T010145
CREATED:20140710T062928Z
LAST-MODIFIED:20140710T062928Z
UID:1284-1406215800-1406217600@michaelbetzmusic.com
SUMMARY:KCMR Radio Interview
DESCRIPTION:
URL:https://michaelbetzmusic.com/event/kcmr-radio-interview/
END:VEVENT
BEGIN:VEVENT
DTSTART;TZID=America/Chicago:20140711T110000
DTEND;TZID=America/Chicago:20140711T140000
DTSTAMP:20260424T010145
CREATED:20140708T231728Z
LAST-MODIFIED:20140708T231901Z
UID:1281-1405076400-1405087200@michaelbetzmusic.com
SUMMARY:Mason City Public Library
DESCRIPTION:Stop by the Mason City Public library from 11:00am to 2:00pm for some jazz/fusion piano!
URL:https://michaelbetzmusic.com/event/mason-city-public-library-6/
LOCATION:Mason City Public Library\, 225 2nd St. S.E.\, Mason City\, IA\, 50401\, United States
END:VEVENT
BEGIN:VEVENT
DTSTART;TZID=America/Chicago:20140510T190000
DTEND;TZID=America/Chicago:20140510T210000
DTSTAMP:20260424T010145
CREATED:20131222T043150Z
LAST-MODIFIED:20131222T043150Z
UID:1240-1399748400-1399755600@michaelbetzmusic.com
SUMMARY:"A Clear Midnight" Premiere - Una Vocis Choral Ensemble
DESCRIPTION:Under the direction of Dennis Lee\, Una Vocis Choral Ensemble will premiere my choral setting of Walt Whitman’s A Clear Midnight!
URL:https://michaelbetzmusic.com/event/clear-midnight-premiere-una-vocis-choral-ensemble/
END:VEVENT
BEGIN:VEVENT
DTSTART;TZID=America/Chicago:20131230T110000
DTEND;TZID=America/Chicago:20131230T140000
DTSTAMP:20260424T010145
CREATED:20131128T193119Z
LAST-MODIFIED:20131128T193207Z
UID:1219-1388401200-1388412000@michaelbetzmusic.com
SUMMARY:Jazz Piano @ Mason City Public Library
DESCRIPTION:Come join me at the Mason City Public Library from 11:00AM to 2:00PM for some jazz piano!
URL:https://michaelbetzmusic.com/event/jazz-piano-mason-city-public-library-3/
LOCATION:Mason City Public Library\, 225 2nd St. S.E.\, Mason City\, IA\, 50401\, United States
END:VEVENT
BEGIN:VEVENT
DTSTART;TZID=America/Chicago:20131227T110000
DTEND;TZID=America/Chicago:20131227T140000
DTSTAMP:20260424T010145
CREATED:20131128T193040Z
LAST-MODIFIED:20131128T193040Z
UID:1218-1388142000-1388152800@michaelbetzmusic.com
SUMMARY:Jazz Piano @ Mason City Public Library
DESCRIPTION:Come join me at the Mason City Public Library from 11:00AM to 2:00PM for some jazz piano!
URL:https://michaelbetzmusic.com/event/jazz-piano-mason-city-public-library-2/
LOCATION:Mason City Public Library\, 225 2nd St. S.E.\, Mason City\, IA\, 50401\, United States
END:VEVENT
BEGIN:VEVENT
DTSTART;TZID=America/Chicago:20131203T201500
DTEND;TZID=America/Chicago:20131203T220000
DTSTAMP:20260424T010145
CREATED:20131128T193944Z
LAST-MODIFIED:20131128T193944Z
UID:1221-1386101700-1386108000@michaelbetzmusic.com
SUMMARY:String Quartet No. 2 - US Premiere - Fresh Ink
DESCRIPTION:My second string quartet\, written and premiered in Paris\, will have its US premiere at the Fresh Ink recital at St. Olaf College in Northfield\, MN.
URL:https://michaelbetzmusic.com/event/string-quartet-2-us-premiere-fresh-ink/
LOCATION:Urness Recital Hall\, 1500 St. Olaf Avenue\, Northfield\, MN\, 55057\, United States
END:VEVENT
BEGIN:VEVENT
DTSTART;VALUE=DATE:20131201
DTEND;VALUE=DATE:20131203
DTSTAMP:20260424T010145
CREATED:20131128T193727Z
LAST-MODIFIED:20131128T193727Z
UID:1220-1385859600-1385945999@michaelbetzmusic.com
SUMMARY:Vine Orchestra Premiere
DESCRIPTION:My 6-second piece in which a moth is caught by a bat\, contemplates its existence\, then is swiftly eaten was among 52 sub-6-second pieces selected to be a part of the Vine Orchestra recording sessions on December 1st.  Videos to be uploaded to vine.co.
URL:https://michaelbetzmusic.com/event/vine-orchestra-premiere/
END:VEVENT
BEGIN:VEVENT
DTSTART;TZID=America/Chicago:20130809T110000
DTEND;TZID=America/Chicago:20130809T140000
DTSTAMP:20260424T010145
CREATED:20130803T232146Z
LAST-MODIFIED:20130803T232146Z
UID:1159-1376046000-1376056800@michaelbetzmusic.com
SUMMARY:Jazz Piano @ Mason City Public Library
DESCRIPTION:Come join me at the Mason City Public Library from 11:00AM to 2:00PM for some jazz piano!
URL:https://michaelbetzmusic.com/event/jazz-piano-mason-city-public-library/
LOCATION:Mason City Public Library\, 225 2nd St. S.E.\, Mason City\, IA\, 50401\, United States
END:VEVENT
BEGIN:VEVENT
DTSTART;TZID=America/Chicago:20130724T140000
DTEND;TZID=America/Chicago:20130724T173000
DTSTAMP:20260424T010145
CREATED:20130726T083109Z
LAST-MODIFIED:20130726T083109Z
UID:949-1374674400-1374687000@michaelbetzmusic.com
SUMMARY:String Quartet No. 2 - Reading
DESCRIPTION:The first movement of my in-progress second string quartet will be read\, along with several other string quartet works by students in the EAMA program.
URL:https://michaelbetzmusic.com/event/string-quartet-no-2-reading/
LOCATION:La Schola Cantorum\, 269 Rue Saint-Jacques\, Paris\, 75005\, France
END:VEVENT
BEGIN:VEVENT
DTSTART;TZID=America/Chicago:20130621T110000
DTEND;TZID=America/Chicago:20130621T140000
DTSTAMP:20260424T010145
CREATED:20130606T174431Z
LAST-MODIFIED:20130606T174538Z
UID:904-1371812400-1371823200@michaelbetzmusic.com
SUMMARY:Jazz Piano @ Mason City Public Library
DESCRIPTION:Come join me at the Mason City Public Library from 11:00AM to 2:00PM for some jazz piano!
URL:https://michaelbetzmusic.com/event/mason-city-public-library-5/
LOCATION:Mason City Public Library\, 225 2nd St. S.E.\, Mason City\, IA\, 50401\, United States
END:VEVENT
BEGIN:VEVENT
DTSTART;TZID=America/Chicago:20130607T110000
DTEND;TZID=America/Chicago:20130607T140000
DTSTAMP:20260424T010145
CREATED:20130606T174342Z
LAST-MODIFIED:20130606T174555Z
UID:902-1370602800-1370613600@michaelbetzmusic.com
SUMMARY:Jazz Piano @ Mason City Public Library
DESCRIPTION:Come join me at the Mason City Public Library from 11:00AM to 2:00PM for some jazz piano!
URL:https://michaelbetzmusic.com/event/mason-city-public-library-4/
LOCATION:Mason City Public Library\, 225 2nd St. S.E.\, Mason City\, IA\, 50401\, United States
END:VEVENT
BEGIN:VEVENT
DTSTART;TZID=America/Chicago:20130429T213000
DTEND;TZID=America/Chicago:20130429T230000
DTSTAMP:20260424T010145
CREATED:20130426T043305Z
LAST-MODIFIED:20220915T034226Z
UID:870-1367271000-1367276400@michaelbetzmusic.com
SUMMARY:"Impulse" at Fresh Ink Recital
DESCRIPTION:Come hear the second performance in 2 days of my most recent work\, Impulse!  Featuring Dave Franzel on alto saxophone\, Jonathan Sanchez on bass clarinet\, and myself on piano.
URL:https://michaelbetzmusic.com/event/impulse-at-fresh-ink-recital/
LOCATION:Urness Recital Hall\, 1500 St. Olaf Ave\, Northfield\, MN\, 55057\, United States
END:VEVENT
BEGIN:VEVENT
DTSTART;TZID=America/Chicago:20130428T151500
DTEND;TZID=America/Chicago:20130428T161500
DTSTAMP:20260424T010145
CREATED:20130426T042932Z
LAST-MODIFIED:20130627T192701Z
UID:867-1367162100-1367165700@michaelbetzmusic.com
SUMMARY:"Impulse" Premiere
DESCRIPTION:Come hear my most recent work\, Impulse\, close off Jonathan Sanchez and Dave Franzel’s sophomore recital in Fosnes Rehearsal Room at St. Olaf College in Northfield\, MN!  I will also be accompanying them on piano and marimba.
URL:https://michaelbetzmusic.com/event/impulse-premiere/
LOCATION:Fosnes Rehearsal Room\, 1500 St. Olaf Ave\, Northfield\, MN\, 55057\, United States
END:VEVENT
BEGIN:VEVENT
DTSTART;TZID=America/Chicago:20130212T193000
DTEND;TZID=America/Chicago:20130212T203000
DTSTAMP:20260424T010145
CREATED:20121001T155037Z
LAST-MODIFIED:20121207T154642Z
UID:749-1360697400-1360701000@michaelbetzmusic.com
SUMMARY:"Two Movements for Wind Quintet" at Roseville Area High School
DESCRIPTION:A student quintet from Roseville Area High School will perform Mvt. II of my piece Two Movements for Wind Quintet during their Chamber Winds Concert.
URL:https://michaelbetzmusic.com/event/two-movements-for-wind-quintet-at-roseville-area-high-school/
LOCATION:Roseville Area High School\, 1420 County Road B-2 West\, Roseville\, MN\, 55113\, United States
END:VEVENT
BEGIN:VEVENT
DTSTART;TZID=America/Chicago:20121229T110000
DTEND;TZID=America/Chicago:20121229T140000
DTSTAMP:20260424T010145
CREATED:20120929T195600Z
LAST-MODIFIED:20120929T195600Z
UID:743-1356778800-1356789600@michaelbetzmusic.com
SUMMARY:Mason City Public Library
DESCRIPTION:Michael Betz will be playing jazz piano from 11:00 AM to 2:00 PM. Come and enjoy some great music and lunch from Cabin Coffee!
URL:https://michaelbetzmusic.com/event/mason-city-public-library-3/
LOCATION:Mason City Public Library\, 225 2nd St. S.E.\, Mason City\, IA\, 50401\, United States
END:VEVENT
BEGIN:VEVENT
DTSTART;TZID=America/Chicago:20121127T201500
DTEND;TZID=America/Chicago:20121127T214500
DTSTAMP:20260424T010145
CREATED:20120925T060839Z
LAST-MODIFIED:20120929T195640Z
UID:740-1354047300-1354052700@michaelbetzmusic.com
SUMMARY:"The Great Figure" Premiere Performance
DESCRIPTION:The Great Figure will be premiered at the fall semester’s Fresh Ink concert at St. Olaf College.
URL:https://michaelbetzmusic.com/event/the-great-figure-premiere-performance/
LOCATION:Urness Recital Hall\, 1500 St. Olaf Avenue\, Northfield\, MN\, 55057\, United States
END:VEVENT
BEGIN:VEVENT
DTSTART;TZID=America/Chicago:20120824T180000
DTEND;TZID=America/Chicago:20120824T210000
DTSTAMP:20260424T010145
CREATED:20120824T010824Z
LAST-MODIFIED:20120824T010931Z
UID:722-1345831200-1345842000@michaelbetzmusic.com
SUMMARY:Prime N Wine
DESCRIPTION:
URL:https://michaelbetzmusic.com/event/prime-n-wine-4/
LOCATION:Prime N Wine\, 3000 4th St. SW\, Mason City\, IA\, 50401\, United States
END:VEVENT
BEGIN:VEVENT
DTSTART;TZID=America/Chicago:20120824T110000
DTEND;TZID=America/Chicago:20120824T140000
DTSTAMP:20260424T010145
CREATED:20120729T191849Z
LAST-MODIFIED:20120729T192220Z
UID:550-1345806000-1345816800@michaelbetzmusic.com
SUMMARY:Mason City Public Library
DESCRIPTION:Michael Betz will be playing jazz piano from 11:00 AM to 2:00 PM. Come and enjoy some great music and lunch from Cabin Coffee!
URL:https://michaelbetzmusic.com/event/mason-city-public-library-2/
LOCATION:Mason City Public Library\, 225 2nd St. S.E.\, Mason City\, IA\, 50401\, United States
END:VEVENT
BEGIN:VEVENT
DTSTART;TZID=America/Chicago:20120823T160000
DTEND;TZID=America/Chicago:20120823T183000
DTSTAMP:20260424T010145
CREATED:20120730T055602Z
LAST-MODIFIED:20120824T011003Z
UID:554-1345737600-1345746600@michaelbetzmusic.com
SUMMARY:Mason City Market
DESCRIPTION:Michael Betz will be providing jazz piano for the Mason City Market.  Come downtown for a refreshing afternoon of local produce/food/art!
URL:https://michaelbetzmusic.com/event/mason-city-market/
LOCATION:Mason City Market\, 9 N. Federal Ave.\, Mason City\, IA\, 50401\, United States
END:VEVENT
BEGIN:VEVENT
DTSTART;TZID=America/Chicago:20120817T180000
DTEND;TZID=America/Chicago:20120817T210000
DTSTAMP:20260424T010145
CREATED:20120817T171233Z
LAST-MODIFIED:20120817T171233Z
UID:716-1345226400-1345237200@michaelbetzmusic.com
SUMMARY:Prime N Wine
DESCRIPTION:
URL:https://michaelbetzmusic.com/event/prime-n-wine-3/
LOCATION:Prime N Wine\, 3000 4th St. SW\, Mason City\, IA\, 50401\, United States
END:VEVENT
BEGIN:VEVENT
DTSTART;TZID=America/Chicago:20120810T110000
DTEND;TZID=America/Chicago:20120810T140000
DTSTAMP:20260424T010145
CREATED:20120729T172442Z
LAST-MODIFIED:20220915T033529Z
UID:546-1344596400-1344607200@michaelbetzmusic.com
SUMMARY:Mason City Public Library
DESCRIPTION:Michael Betz will be playing jazz piano from 11:00 AM to 2:00 PM. Come and enjoy some great music and lunch from Cabin Coffee!
URL:https://michaelbetzmusic.com/event/mason-city-public-library/
LOCATION:Mason City Public Library\, 225 2nd St. S.E.\, Mason City\, IA\, 50401\, United States
END:VEVENT
BEGIN:VEVENT
DTSTART;TZID=America/Chicago:20120804T180000
DTEND;TZID=America/Chicago:20120804T210000
DTSTAMP:20260424T010145
CREATED:20120803T062849Z
LAST-MODIFIED:20120803T062849Z
UID:582-1344103200-1344114000@michaelbetzmusic.com
SUMMARY:Prime N Wine
DESCRIPTION:
URL:https://michaelbetzmusic.com/event/prime-n-wine-2/
LOCATION:Prime N Wine\, 3000 4th St. SW\, Mason City\, IA\, 50401\, United States
END:VEVENT
BEGIN:VEVENT
DTSTART;TZID=America/Chicago:20120803T180000
DTEND;TZID=America/Chicago:20120803T210000
DTSTAMP:20260424T010145
CREATED:20120803T062716Z
LAST-MODIFIED:20120803T062716Z
UID:580-1344016800-1344027600@michaelbetzmusic.com
SUMMARY:Prime N Wine
DESCRIPTION:
URL:https://michaelbetzmusic.com/event/prime-n-wine/
LOCATION:Prime N Wine\, 3000 4th St. SW\, Mason City\, IA\, 50401\, United States
END:VEVENT
END:VCALENDAR